BEGIN:VCALENDAR
VERSION:2.0
PRODID:-//MecaNano - ECPv6.15.16.1//NONSGML v1.0//EN
CALSCALE:GREGORIAN
METHOD:PUBLISH
X-ORIGINAL-URL:https://mecanano.com
X-WR-CALDESC:Events for MecaNano
REFRESH-INTERVAL;VALUE=DURATION:PT1H
X-Robots-Tag:noindex
X-PUBLISHED-TTL:PT1H
BEGIN:VTIMEZONE
TZID:UTC
BEGIN:STANDARD
TZOFFSETFROM:+0000
TZOFFSETTO:+0000
TZNAME:UTC
DTSTART:20230101T000000
END:STANDARD
END:VTIMEZONE
BEGIN:VEVENT
DTSTART;TZID=UTC:20240222T080000
DTEND;TZID=UTC:20240223T170000
DTSTAMP:20260425T234321
CREATED:20241004T204018Z
LAST-MODIFIED:20241004T204350Z
UID:2177-1708588800-1708707600@mecanano.com
SUMMARY:First topical workshop on Machine Learning
DESCRIPTION:First topical workshop on Machine Learning\nThe abstract submission is still open for our 2-day event related to the WG4 “Machine Learning” here: https://mecanano-wg4-24.sciencesconf.org/ \nThe workshop will be held on 22-23 February 2024 in Louvain-la-Neuve\, Belgium. (Note: this is a different city to Louvain!) \nThe community is rather diverse and has a large range of experienced in the use of ML: many of you already use this technique routinely while others do not have hands-on experience with ML\, but would be interested to exploit its powerful capacities on their research data. Thus\, the meeting is designed to meet everyone’s needs: four one-hour tutorials are planned that will provide in-depth case studies through examples of using ML on experimental and modelling data. In addition\, contributed talks and posters will give insights into various successful applications of ML. \nWe want to emphasize that in accordance with the concept of the meeting\, we not only accept abstracts on already established applications of ML\, but also on promising ideas of future applications. \nIn addition\, everyone interested to ML is welcome to attend\, even without submitting an abstract. Registration will open soon!
URL:https://mecanano.com/event/first-topical-workshop-on-machine-learning/
LOCATION:UCLouvain in Louvain-la-Neuve\, Place Raymond Lemaire 1\, Louvain-la-Neuve\, 1348\, Belgium
CATEGORIES:wg,wg4,Workshop
ATTACH;FMTTYPE=image/webp:https://mecanano.com/wp-content/uploads/2024/02/image_louvain-scaled-e1707310366941.webp
END:VEVENT
END:VCALENDAR