BEGIN:VCALENDAR
VERSION:2.0
PRODID:-//MecaNano - ECPv6.15.16.1//NONSGML v1.0//EN
CALSCALE:GREGORIAN
METHOD:PUBLISH
X-WR-CALNAME:MecaNano
X-ORIGINAL-URL:https://mecanano.com
X-WR-CALDESC:Events for MecaNano
REFRESH-INTERVAL;VALUE=DURATION:PT1H
X-Robots-Tag:noindex
X-PUBLISHED-TTL:PT1H
BEGIN:VTIMEZONE
TZID:UTC
BEGIN:STANDARD
TZOFFSETFROM:+0000
TZOFFSETTO:+0000
TZNAME:UTC
DTSTART:20250101T000000
END:STANDARD
END:VTIMEZONE
BEGIN:VTIMEZONE
TZID:Europe/Paris
BEGIN:DAYLIGHT
TZOFFSETFROM:+0100
TZOFFSETTO:+0200
TZNAME:CEST
DTSTART:20250330T010000
END:DAYLIGHT
BEGIN:STANDARD
TZOFFSETFROM:+0200
TZOFFSETTO:+0100
TZNAME:CET
DTSTART:20251026T010000
END:STANDARD
BEGIN:DAYLIGHT
TZOFFSETFROM:+0100
TZOFFSETTO:+0200
TZNAME:CEST
DTSTART:20260329T010000
END:DAYLIGHT
BEGIN:STANDARD
TZOFFSETFROM:+0200
TZOFFSETTO:+0100
TZNAME:CET
DTSTART:20261025T010000
END:STANDARD
BEGIN:DAYLIGHT
TZOFFSETFROM:+0100
TZOFFSETTO:+0200
TZNAME:CEST
DTSTART:20270328T010000
END:DAYLIGHT
BEGIN:STANDARD
TZOFFSETFROM:+0200
TZOFFSETTO:+0100
TZNAME:CET
DTSTART:20271031T010000
END:STANDARD
END:VTIMEZONE
BEGIN:VEVENT
DTSTART;TZID=UTC:20260422T100000
DTEND;TZID=UTC:20260422T110000
DTSTAMP:20260422T095705
CREATED:20260324T141133Z
LAST-MODIFIED:20260324T141152Z
UID:2891-1776852000-1776855600@mecanano.com
SUMMARY:WG3 online series 2026
DESCRIPTION:Structuring research data in materials science: from metadata to knowledge \nThis online series focuses on how structured research data can enable better data integration and reuse in materials science. Starting from the basics of scientific metadata and FAIR data\, the sessions move toward ontologies\, knowledge graphs\, and emerging approaches using large language models (LLMs) to structure materials data. The series concludes with guest talks and a pitching event showcasing RDM solutions within the MecaNano community. \nAll seminars will be held online using Zoom on Wednesdays 10:00–11:00 CEST. Links will be sent to only those registered by the deadline (Friday before the seminar) 1-2 days ahead.  \n22 April – Introduction to Scientific Metadata and FAIR Research Data\nSpeaker: Dr. Abril Azocar Guzman\nRegister here: https://forms.gle/iBK8NvyTGkgh18LRA  \n6 May – Ontologies and Knowledge Graphs for Materials Research Data\nSpeaker: Dr. Abril Azocar Guzman\nRegister here: https://forms.gle/YeEG9uaHDu6h4ThF6  \n20 May – LLMs for Metadata Extraction and Structuring of Materials Data\nSpeaker: Dr. Elaheh Akhoundi\nRegister here: https://forms.gle/5oaw7L67jK9oCyBB8  \n3 June – Electron Microscopy Glossary\nSpeaker: Dr. Oonagh Brendike-Mannix and Dr. Volker Hofmann\nRegister here: https://forms.gle/gs8XGrEenmaTFiSdA  \n17 June – Platform MaterialDigital Core Ontology (PMDco)\nSpeaker: Dr. Hossein Beygi Nasrabadi \nRegister here: https://forms.gle/bWR2i6xpVViCyrUw8  \n1 July – Pitching event: RDM solutions in MecaNano\nModerator: Dr. Abril Azocar Guzman\nRegister here: https://forms.gle/87DFfaf9ZMRT92257
URL:https://mecanano.com/event/wg3-online-series-2026/
LOCATION:Online Conference
CATEGORIES:wg,wg3,Workshop
ATTACH;FMTTYPE=image/jpeg:https://mecanano.com/wp-content/uploads/2024/02/LOGO1-e1707315103241.jpg
END:VEVENT
BEGIN:VEVENT
DTSTART;TZID=Europe/Paris:20260427T130000
DTEND;TZID=Europe/Paris:20260429T140000
DTSTAMP:20260422T095705
CREATED:20251006T160152Z
LAST-MODIFIED:20260205T174151Z
UID:2730-1777294800-1777471200@mecanano.com
SUMMARY:Final General Meeting\, Rome\, Italy
DESCRIPTION:MecaNano General Meeting 2026 — Rome\, Italy\n27–29 April 2026 • Università degli Studi Roma Tre (DICITA) \n\nWe are excited to announce the 4th and final MecaNano General Meeting\, taking place in Rome from\n27 to 29 April 2026. The meeting will bring together the MecaNano community to share results\, align on\nnext steps\, and strengthen collaborations in small-scale mechanical characterization. \nFor full details and updates\, visit the meeting website:\nhttps://mecanano2026.sciencesconf.org/ \n \n \nLocal Organizers\n\nDr. Edoardo Rossi (Università Roma Tre)\n\nKey Dates\n\nAbstract submission: 1 Dec 2025 – 23 January 2026\nRegistration: 4 February – 2 March 2026\nPreliminary program online: 02 February 2026\n\nScientific Program\nThe program will feature traditional sessions on: \n\nMechanical size effects and nanoscale deformation mechanisms\nExperimental and simulation investigations (nanoindentation\, nanomechanical testing\, advanced characterization\, atomistic/meso-scale simulations\, finite elements; crystalline\, amorphous\, and hybrid materials)\nManagement of research data in materials science\nMachine learning applications related to the above topics\n\nRegular talks are 20 minutes including Q&A. Posters are A0\, portrait orientation preferred. \nRegistration & Fees\nThe meeting is free of charge\, but registration is mandatory. Please note that\nsubmitting an abstract does not constitute registration. Register via the conference website. \nVenue & Access\nUniversità degli Studi Roma Tre — DICITA. The venue is within walking distance of Metro B “Marconi” (Blue line).\nPractical information\, travel tips\, and suggested hotels are available on the website. \nCultural Experience\nRome offers an unparalleled blend of history\, architecture\, and contemporary urban life—an ideal setting to pair\ncutting-edge research with memorable cultural experiences. \nStay Informed\nBookmark the website and check the Deadlines\, Registration\, and Venue pages for any updates:\nmecanano2026.sciencesconf.org.
URL:https://mecanano.com/event/4gm/
LOCATION:Università degli studi Roma Tre\, Department of Civil\, Computer and Aeronautical Engineering\, Via Vito Volterra\, 62\, Roma\, 00146\, Italy
CATEGORIES:General Meetings
ATTACH;FMTTYPE=image/webp:https://mecanano.com/wp-content/uploads/2024/05/1666967024891_rome-50-webp-e1714565416327.webp
END:VEVENT
BEGIN:VEVENT
DTSTART;TZID=UTC:20260506T100000
DTEND;TZID=UTC:20260506T110000
DTSTAMP:20260422T095705
CREATED:20260324T141320Z
LAST-MODIFIED:20260324T141320Z
UID:2893-1778061600-1778065200@mecanano.com
SUMMARY:WG3 online series 2026
DESCRIPTION:Structuring research data in materials science: from metadata to knowledge \nThis online series focuses on how structured research data can enable better data integration and reuse in materials science. Starting from the basics of scientific metadata and FAIR data\, the sessions move toward ontologies\, knowledge graphs\, and emerging approaches using large language models (LLMs) to structure materials data. The series concludes with guest talks and a pitching event showcasing RDM solutions within the MecaNano community. \nAll seminars will be held online using Zoom on Wednesdays 10:00–11:00 CEST. Links will be sent to only those registered by the deadline (Friday before the seminar) 1-2 days ahead.  \n22 April – Introduction to Scientific Metadata and FAIR Research Data\nSpeaker: Dr. Abril Azocar Guzman\nRegister here: https://forms.gle/iBK8NvyTGkgh18LRA  \n6 May – Ontologies and Knowledge Graphs for Materials Research Data\nSpeaker: Dr. Abril Azocar Guzman\nRegister here: https://forms.gle/YeEG9uaHDu6h4ThF6  \n20 May – LLMs for Metadata Extraction and Structuring of Materials Data\nSpeaker: Dr. Elaheh Akhoundi\nRegister here: https://forms.gle/5oaw7L67jK9oCyBB8  \n3 June – Electron Microscopy Glossary\nSpeaker: Dr. Oonagh Brendike-Mannix and Dr. Volker Hofmann\nRegister here: https://forms.gle/gs8XGrEenmaTFiSdA  \n17 June – Platform MaterialDigital Core Ontology (PMDco)\nSpeaker: Dr. Hossein Beygi Nasrabadi \nRegister here: https://forms.gle/bWR2i6xpVViCyrUw8  \n1 July – Pitching event: RDM solutions in MecaNano\nModerator: Dr. Abril Azocar Guzman\nRegister here: https://forms.gle/87DFfaf9ZMRT92257
URL:https://mecanano.com/event/wg3-online-series-2026-2/
LOCATION:Online Conference
CATEGORIES:wg,wg3,Workshop
ATTACH;FMTTYPE=image/jpeg:https://mecanano.com/wp-content/uploads/2024/02/LOGO1-e1707315103241.jpg
END:VEVENT
BEGIN:VEVENT
DTSTART;TZID=UTC:20260520T100000
DTEND;TZID=UTC:20260520T110000
DTSTAMP:20260422T095705
CREATED:20260324T141630Z
LAST-MODIFIED:20260324T141630Z
UID:2900-1779271200-1779274800@mecanano.com
SUMMARY:WG3 online series 2026
DESCRIPTION:Structuring research data in materials science: from metadata to knowledge \nThis online series focuses on how structured research data can enable better data integration and reuse in materials science. Starting from the basics of scientific metadata and FAIR data\, the sessions move toward ontologies\, knowledge graphs\, and emerging approaches using large language models (LLMs) to structure materials data. The series concludes with guest talks and a pitching event showcasing RDM solutions within the MecaNano community. \nAll seminars will be held online using Zoom on Wednesdays 10:00–11:00 CEST. Links will be sent to only those registered by the deadline (Friday before the seminar) 1-2 days ahead.  \n22 April – Introduction to Scientific Metadata and FAIR Research Data\nSpeaker: Dr. Abril Azocar Guzman\nRegister here: https://forms.gle/iBK8NvyTGkgh18LRA  \n6 May – Ontologies and Knowledge Graphs for Materials Research Data\nSpeaker: Dr. Abril Azocar Guzman\nRegister here: https://forms.gle/YeEG9uaHDu6h4ThF6  \n20 May – LLMs for Metadata Extraction and Structuring of Materials Data\nSpeaker: Dr. Elaheh Akhoundi\nRegister here: https://forms.gle/5oaw7L67jK9oCyBB8  \n3 June – Electron Microscopy Glossary\nSpeaker: Dr. Oonagh Brendike-Mannix and Dr. Volker Hofmann\nRegister here: https://forms.gle/gs8XGrEenmaTFiSdA  \n17 June – Platform MaterialDigital Core Ontology (PMDco)\nSpeaker: Dr. Hossein Beygi Nasrabadi \nRegister here: https://forms.gle/bWR2i6xpVViCyrUw8  \n1 July – Pitching event: RDM solutions in MecaNano\nModerator: Dr. Abril Azocar Guzman\nRegister here: https://forms.gle/87DFfaf9ZMRT92257
URL:https://mecanano.com/event/wg3-online-series-2026-3/
LOCATION:Online Conference
CATEGORIES:wg,wg3,Workshop
ATTACH;FMTTYPE=image/jpeg:https://mecanano.com/wp-content/uploads/2024/02/LOGO1-e1707315103241.jpg
END:VEVENT
BEGIN:VEVENT
DTSTART;VALUE=DATE:20260525
DTEND;VALUE=DATE:20260530
DTSTAMP:20260422T095705
CREATED:20260324T144250Z
LAST-MODIFIED:20260324T144250Z
UID:2919-1779667200-1780099199@mecanano.com
SUMMARY:2026 Spring Meeting
DESCRIPTION:The 2026 Spring Meeting of the European Materials Research Society (E-MRS) organized with the Foundation Jean-Marie Lehn will be held at the Convention & Exhibition Centre of Strasbourg (France)\, from May 25 to 29\, 2026. \nThe conference will consist of 24 parallel symposia with invited speakers\, oral and poster presentations assorted by a plenary session to provide an international forum for discussing recent advances in the field of materials science. The meeting will be augmented by an exhibition of products and services of interest to the conference participants. \nThe latest scientific results will be presented and authors are invited to submit papers in the selected journals that fit the scope of each symposium. \nThe focus of the scientific program will be both on fundamental investigations and technological applications\, providing an international forum for discussing recent advances related to the different aspects to be considered to promote innovation. \nWe look forward to your participation to create an outstanding 2026 E-MRS Spring Meeting & Exhibit ! \n  \nMORE INFO: https://www.european-mrs.com/meetings/2026-spring-meeting-exhibit
URL:https://mecanano.com/event/2026-spring-meeting/
LOCATION:Convention & Exhibition Centre of Strasbourg\, Place de Bordeaux\, Strasbourg\, France
CATEGORIES:Conference
ATTACH;FMTTYPE=image/jpeg:https://mecanano.com/wp-content/uploads/2026/03/petite-france-strasbourg-photo-givagaphotos-via-canva-e1774363361488.jpg
END:VEVENT
BEGIN:VEVENT
DTSTART;VALUE=DATE:20260527
DTEND;VALUE=DATE:20260530
DTSTAMP:20260422T095705
CREATED:20260324T143027Z
LAST-MODIFIED:20260324T143027Z
UID:2910-1779840000-1780099199@mecanano.com
SUMMARY:EMMC20
DESCRIPTION:The European Mechanics of Materials Conferences (EMMC) is a series of bi-yearly meetings organized under the auspices of the European Mechanics Society (Euromech)\, which has taken place over the last 25 years in European cities such as Paris\, Warsaw\, Gothenburg\, Brussels\, Nantes\, Oxford\, and Madrid. \nThe 20th edition\, EMMC20\, will be held in Florence (Italy)\,  27th – 29th May 2026. More info: https://www.dicea.unifi.it/p865.html
URL:https://mecanano.com/event/emmc20/
LOCATION:Palazzo dei Congressi\, Firenze Piazza Adua 1\, Firenze\, Italy
CATEGORIES:Conference
ATTACH;FMTTYPE=image/jpeg:https://mecanano.com/wp-content/uploads/2026/03/florence1-big.jpg
END:VEVENT
BEGIN:VEVENT
DTSTART;TZID=UTC:20260603T100000
DTEND;TZID=UTC:20260603T110000
DTSTAMP:20260422T095705
CREATED:20260324T141746Z
LAST-MODIFIED:20260324T141746Z
UID:2902-1780480800-1780484400@mecanano.com
SUMMARY:WG3 online series 2026
DESCRIPTION:Structuring research data in materials science: from metadata to knowledge \nThis online series focuses on how structured research data can enable better data integration and reuse in materials science. Starting from the basics of scientific metadata and FAIR data\, the sessions move toward ontologies\, knowledge graphs\, and emerging approaches using large language models (LLMs) to structure materials data. The series concludes with guest talks and a pitching event showcasing RDM solutions within the MecaNano community. \nAll seminars will be held online using Zoom on Wednesdays 10:00–11:00 CEST. Links will be sent to only those registered by the deadline (Friday before the seminar) 1-2 days ahead.  \n22 April – Introduction to Scientific Metadata and FAIR Research Data\nSpeaker: Dr. Abril Azocar Guzman\nRegister here: https://forms.gle/iBK8NvyTGkgh18LRA  \n6 May – Ontologies and Knowledge Graphs for Materials Research Data\nSpeaker: Dr. Abril Azocar Guzman\nRegister here: https://forms.gle/YeEG9uaHDu6h4ThF6  \n20 May – LLMs for Metadata Extraction and Structuring of Materials Data\nSpeaker: Dr. Elaheh Akhoundi\nRegister here: https://forms.gle/5oaw7L67jK9oCyBB8  \n3 June – Electron Microscopy Glossary\nSpeaker: Dr. Oonagh Brendike-Mannix and Dr. Volker Hofmann\nRegister here: https://forms.gle/gs8XGrEenmaTFiSdA  \n17 June – Platform MaterialDigital Core Ontology (PMDco)\nSpeaker: Dr. Hossein Beygi Nasrabadi \nRegister here: https://forms.gle/bWR2i6xpVViCyrUw8  \n1 July – Pitching event: RDM solutions in MecaNano\nModerator: Dr. Abril Azocar Guzman\nRegister here: https://forms.gle/87DFfaf9ZMRT92257
URL:https://mecanano.com/event/wg3-online-series-2026-4/
LOCATION:Online Conference
CATEGORIES:wg,wg3,Workshop
ATTACH;FMTTYPE=image/jpeg:https://mecanano.com/wp-content/uploads/2024/02/LOGO1-e1707315103241.jpg
END:VEVENT
BEGIN:VEVENT
DTSTART;TZID=UTC:20260617T100000
DTEND;TZID=UTC:20260617T110000
DTSTAMP:20260422T095705
CREATED:20260324T141853Z
LAST-MODIFIED:20260324T141853Z
UID:2905-1781690400-1781694000@mecanano.com
SUMMARY:WG3 online series 2026
DESCRIPTION:Structuring research data in materials science: from metadata to knowledge \nThis online series focuses on how structured research data can enable better data integration and reuse in materials science. Starting from the basics of scientific metadata and FAIR data\, the sessions move toward ontologies\, knowledge graphs\, and emerging approaches using large language models (LLMs) to structure materials data. The series concludes with guest talks and a pitching event showcasing RDM solutions within the MecaNano community. \nAll seminars will be held online using Zoom on Wednesdays 10:00–11:00 CEST. Links will be sent to only those registered by the deadline (Friday before the seminar) 1-2 days ahead.  \n22 April – Introduction to Scientific Metadata and FAIR Research Data\nSpeaker: Dr. Abril Azocar Guzman\nRegister here: https://forms.gle/iBK8NvyTGkgh18LRA  \n6 May – Ontologies and Knowledge Graphs for Materials Research Data\nSpeaker: Dr. Abril Azocar Guzman\nRegister here: https://forms.gle/YeEG9uaHDu6h4ThF6  \n20 May – LLMs for Metadata Extraction and Structuring of Materials Data\nSpeaker: Dr. Elaheh Akhoundi\nRegister here: https://forms.gle/5oaw7L67jK9oCyBB8  \n3 June – Electron Microscopy Glossary\nSpeaker: Dr. Oonagh Brendike-Mannix and Dr. Volker Hofmann\nRegister here: https://forms.gle/gs8XGrEenmaTFiSdA  \n17 June – Platform MaterialDigital Core Ontology (PMDco)\nSpeaker: Dr. Hossein Beygi Nasrabadi \nRegister here: https://forms.gle/bWR2i6xpVViCyrUw8  \n1 July – Pitching event: RDM solutions in MecaNano\nModerator: Dr. Abril Azocar Guzman\nRegister here: https://forms.gle/87DFfaf9ZMRT92257
URL:https://mecanano.com/event/wg3-online-series-2026-5/
CATEGORIES:wg,wg3,Workshop
ATTACH;FMTTYPE=image/jpeg:https://mecanano.com/wp-content/uploads/2024/02/LOGO1-e1707315103241.jpg
END:VEVENT
BEGIN:VEVENT
DTSTART;TZID=UTC:20260701T100000
DTEND;TZID=UTC:20260701T110000
DTSTAMP:20260422T095706
CREATED:20260324T141949Z
LAST-MODIFIED:20260324T141949Z
UID:2907-1782900000-1782903600@mecanano.com
SUMMARY:WG3 online series 2026
DESCRIPTION:Structuring research data in materials science: from metadata to knowledge \nThis online series focuses on how structured research data can enable better data integration and reuse in materials science. Starting from the basics of scientific metadata and FAIR data\, the sessions move toward ontologies\, knowledge graphs\, and emerging approaches using large language models (LLMs) to structure materials data. The series concludes with guest talks and a pitching event showcasing RDM solutions within the MecaNano community. \nAll seminars will be held online using Zoom on Wednesdays 10:00–11:00 CEST. Links will be sent to only those registered by the deadline (Friday before the seminar) 1-2 days ahead.  \n22 April – Introduction to Scientific Metadata and FAIR Research Data\nSpeaker: Dr. Abril Azocar Guzman\nRegister here: https://forms.gle/iBK8NvyTGkgh18LRA  \n6 May – Ontologies and Knowledge Graphs for Materials Research Data\nSpeaker: Dr. Abril Azocar Guzman\nRegister here: https://forms.gle/YeEG9uaHDu6h4ThF6  \n20 May – LLMs for Metadata Extraction and Structuring of Materials Data\nSpeaker: Dr. Elaheh Akhoundi\nRegister here: https://forms.gle/5oaw7L67jK9oCyBB8  \n3 June – Electron Microscopy Glossary\nSpeaker: Dr. Oonagh Brendike-Mannix and Dr. Volker Hofmann\nRegister here: https://forms.gle/gs8XGrEenmaTFiSdA  \n17 June – Platform MaterialDigital Core Ontology (PMDco)\nSpeaker: Dr. Hossein Beygi Nasrabadi \nRegister here: https://forms.gle/bWR2i6xpVViCyrUw8  \n1 July – Pitching event: RDM solutions in MecaNano\nModerator: Dr. Abril Azocar Guzman\nRegister here: https://forms.gle/87DFfaf9ZMRT92257
URL:https://mecanano.com/event/wg3-online-series-2026-6/
LOCATION:Online Conference
CATEGORIES:wg,wg3,Workshop
ATTACH;FMTTYPE=image/jpeg:https://mecanano.com/wp-content/uploads/2024/02/LOGO1-e1707315103241.jpg
END:VEVENT
BEGIN:VEVENT
DTSTART;VALUE=DATE:20260906
DTEND;VALUE=DATE:20260911
DTSTAMP:20260422T095706
CREATED:20260324T145827Z
LAST-MODIFIED:20260324T145827Z
UID:2931-1788652800-1789084799@mecanano.com
SUMMARY:ISPMA 2026
DESCRIPTION:We are delighted to inform you that International Symposia on Physics of Materials – ISPMA 2026\, taking place from September 6–10\, 2026\, in the beautiful city of Prague\, Czech Republic will start accepting abstracts 16. February. \nJoin leading experts and researchers in materials science for five inspiring days of knowledge-sharing\, networking\, and collaboration. We look forward to welcoming you to Prague for an engaging and memorable event! \nThe symposium will focus on the following topic clusters: \n\nStructural and functional materials (magnesium\, aluminum\, titanium alloys\, shape memory alloys\, steels\, high-entropy alloys\, intermetallics\, ceramics\, and other non-metallic materials).\nMaterials out of equilibrium (nanocrystalline and amorphous materials)\nMaterials characterization (e.g.\, microstructure\, mechanical properties\, and corrosion\, including interaction with hydrogen).\nElectronic properties of materials (e.g.\, magnetism\, heat\, and electronic transport\, including superconductivity).\nModeling\, simulations\, ab initio calculations\, and data science.\n\nCurrently\, the following sessions have been proposed: \n\nMagnesium Alloys and Their Applications\nAdvanced titanium alloys\nDislocations in Materials\nMagnetic Properties of Materials\nDiffraction Methods in Materials Science\n\nVisit the conference website at https://www.ispma-conf.cz/ to learn more. \n 
URL:https://mecanano.com/event/ispma-2026/
LOCATION:Faculty Conference Centre “Profesní dům”\, Malostranské nám. 25\, Malá Strana\, 11800\, Czech Republic
CATEGORIES:Conference
ATTACH;FMTTYPE=image/jpeg:https://mecanano.com/wp-content/uploads/2026/03/republique-tcheque.jpg
END:VEVENT
BEGIN:VEVENT
DTSTART;VALUE=DATE:20260929
DTEND;VALUE=DATE:20261002
DTSTAMP:20260422T095706
CREATED:20260324T144927Z
LAST-MODIFIED:20260324T144927Z
UID:2923-1790640000-1790899199@mecanano.com
SUMMARY:MSE Symposium C05: “Modelling of Small-Scale Mechanical Behaviour and In-Situ Nano-Mechanical Testing”
DESCRIPTION:We are pleased to invite you to submit an abstract to Symposium C05: “Modelling of Small-Scale Mechanical Behaviour and In-Situ Nano-Mechanical Testing”\, which will take place at the Materials Science and Engineering Conference (MSE) 2026 in Darmstadt\, Germany from 29 Sept – 01 Oct 2026. https://mse-congress.de/ \nAbstract submission is here and deadline is 19. February 2026. \nMechanical behavior at the micron and nanoscale is gaining increasing importance in a wide variety of different materials due to the miniaturization of components and systems as well as the introduction of hierarchical multi-scale material designs. Therefore\, a rapid development of innovative in-situ and small-scale testing techniques is necessary\, which allows further insights in the acting deformation processes and fundamental deformation and failure mechanisms. At the same time\, these small length-scales provide the chance for a direct handshake of experimental investigations and computer simulations. Promoting this link will speed up the necessary development of material physics based\, predictive models of small-scale mechanical behaviour. \nThis symposium will mainly focus on both\, the development\, challenges\, and application of new advanced mechanical in-situ testing techniques as well as simulation methods to foster a better understanding of the local mechanical behavior of different materials and microstructural constituents. Besides possible size effects in the deformation behavior in that scaling regime\, combined experimental\, simulation\, and machine learning approaches are also of special interest and should be discussed. \nTopics of interest include\, but are not limited to: \n\nAdvanced small scale testing techniques (e.g. Nanoindentation\, µ-compression\, µ-tension testing\, µ-bending)\nTesting at elevated and cryogenic temperatures\, under various atmospheres\, such as hydrogen\, in different fields\, e.g. electro-magnetic fields as well as in different environmental conditions\, e.g. corrosive environments or inert environments for e.g. battery materials\nSimulation and modelling approaches to complement small scale mechanical testing\, from the atomistic to the microstructural level; multiscale and multiphysics simulations\nInvestigating and understanding and size effects in the deformation behavior\, including interface mediated deformation behavior and the coupling environment and deformation\nNew testing approaches\, analysis concepts\, and corresponding challenges in the micro and nano scale mechanical testing\, innovative evaluation of localized phenomena by use of digital image correlation\, acoustic and thermal measurements or combined full-field measurements\nCorrelation with high resolution microscopy analysis as well as in-situ and operando testing using optical microscopy\, SEM\, TEM\, APT\, AFM\, Raman\, or X-ray\nMachine-learning and data-science based approaches\n\nWe would be delighted to welcome your contribution and to foster exciting discussions on this emerging materials design strategy at MSE 2026. \n 
URL:https://mecanano.com/event/mse-symposium-c05-modelling-of-small-scale-mechanical-behaviour-and-in-situ-nano-mechanical-testing/
LOCATION:Technical University of Darmstadt\, Karolinenpl. 5\, Darmstadt\, 64289\, Germany
CATEGORIES:Conference
ATTACH;FMTTYPE=image/jpeg:https://mecanano.com/wp-content/uploads/2026/03/darmstadt-DE.jpg
END:VEVENT
BEGIN:VEVENT
DTSTART;TZID=UTC:20261004T080000
DTEND;TZID=UTC:20261009T170000
DTSTAMP:20260422T095706
CREATED:20260324T143545Z
LAST-MODIFIED:20260416T083706Z
UID:2915-1791100800-1791565200@mecanano.com
SUMMARY:ECI Nanomechanical Testing in Materials R & D
DESCRIPTION:Come join the nano- and micro-mechanical testing community in Rhodes between October 4-9th for the ECI Nanomechanical Testing in Materials R &D: link \nAbstracts for oral presentations are being accepted until March 31st 2026 (extended to May 1) and for poster presentation until April 30th 2026 (extended to May 15) \nThe conference will provide a platform for the experimental mechanics community to exchange insights on cutting-edge nanomechanical testing methods\, with particular emphasis on: \n\nNovel nanoindentation and testing techniques – Advanced hardware and data analysis methods for characterizing complex materials with improved resolution and sensitivity.\nMultiscale deformation and failure mechanisms – Observations of mechanical behavior from atomic to mesoscale\, bridging the gap between different length scales.\nIn-situ and operando nanomechanics – Mechanical testing combined with SEM\, TEM\, AFM\, X-ray\, neutron\, and electron-based imaging and diffraction methods.\nCorrelative mechanical microscopy – Use of multimodal probes (photon\, phonon\, electron\, ion) to study deformation processes in advanced structural materials.\nNanomechanics under extreme conditions – Testing at high or cryogenic temperatures\, under high strain rates\, or in harsh environments such as aggressive atmospheres or radiation.\nAdvanced strain measurement and data analysis – Full-field imaging\, volume correlation\, and time-resolved experiments to investigate dynamic\, far-from-equilibrium processes.\nIntegrated modeling and characterization – Coupling experiments with modeling for mechanistic discovery\, parameter calibration\, and model validation.\nArtificial intelligence and data-driven methods – Applying machine learning and informatics to nanomechanics for pattern recognition\, prediction\, and insight generation.\nIndustrial applications – Translating advanced testing methods to industry-relevant materials and devices\, including energy systems\, coatings\, composites\, biomedical materials\, and 3D-printed components\n\nExpect insightful discussions and lively poster sessions in historical Rhodes. \nHope to see you there! \nDEADLINE for abstact submissions \nOrals: 31.03.2026 extended to 01.05.2026\nPosters: 30.04.2026 extended to 15.05.2026 \n 
URL:https://mecanano.com/event/eci-nanomechanical-testing-in-materials-r-d/
LOCATION:Rhodes\, Rhodes\, Greece
CATEGORIES:Conference
ATTACH;FMTTYPE=image/jpeg:https://mecanano.com/wp-content/uploads/2026/03/rhodes.jpg
END:VEVENT
END:VCALENDAR